BEGIN:VCALENDAR
VERSION:2.0
PRODID:-//Six As One - ECPv6.15.20//NONSGML v1.0//EN
CALSCALE:GREGORIAN
METHOD:PUBLISH
X-WR-CALNAME:Six As One
X-ORIGINAL-URL:https://sixasone.com
X-WR-CALDESC:Events for Six As One
REFRESH-INTERVAL;VALUE=DURATION:PT1H
X-Robots-Tag:noindex
X-PUBLISHED-TTL:PT1H
BEGIN:VTIMEZONE
TZID:UTC
BEGIN:STANDARD
TZOFFSETFROM:+0000
TZOFFSETTO:+0000
TZNAME:UTC
DTSTART:20250101T000000
END:STANDARD
END:VTIMEZONE
BEGIN:VEVENT
DTSTART;VALUE=DATE:20260530
DTEND;VALUE=DATE:20260601
DTSTAMP:20260421T114725
CREATED:20260124T170636Z
LAST-MODIFIED:20260124T170636Z
UID:2024-1780099200-1780271999@sixasone.com
SUMMARY:The Six Coaches Clinic
DESCRIPTION:
URL:https://sixasone.com/event/the-six-coaches-clinic/
LOCATION:Waco Texas\, Waco\, United States
CATEGORIES:Clinic
END:VEVENT
END:VCALENDAR